BEGIN:VCALENDAR
VERSION:2.0
PRODID:-//www.oakparkchurch.com//NONSGML kigkonsult.se iCalcreator 2.39.1//
CALSCALE:GREGORIAN
METHOD:PUBLISH
UID:67f9f6a7-c688-4e75-af9d-b44f22849fb8
X-WR-CALNAME:www.oakparkchurch.com
X-WR-CALDESC:www.oakparkchurch.com
X-WR-TIMEZONE:America/Los_Angeles
X-LIC-LOCATION:America/Los_Angeles
BEGIN:VEVENT
UID:00cbff62-7ee9-48e4-8813-2b5b5ba33b13
DTSTAMP:20260421T090849Z
CLASS:PUBLIC
DTSTART;TZID=America/Los_Angeles:20230614T190000
DTEND;TZID=America/Los_Angeles:20230614T200000
SUMMARY:Worship &amp\; The Word
TRANSP:OPAQUE
BEGIN:VALARM
ACTION:DISPLAY
DESCRIPTION:Worship &amp\; The Word
TRIGGER:-PT15M
END:VALARM
END:VEVENT
END:VCALENDAR
